BEGIN:VCALENDAR
VERSION:2.0
PRODID:-//eventon.com NONSGML v1.0//EN
CALSCALE:GREGORIAN
METHOD:PUBLISH
BEGIN:VEVENT
UID:69e8a0fa3b65b
DTSTAMP:20260422T102042Z
DTSTART:20260412T090000Z
DTEND:20260412T103000Z
LOCATION:San Cristóbal de Segovia San Cristóbal de Segovia
SUMMARY:Taller familiar Bichos y Flores en San Cristóbal
DESCRIPTION:Taller familiar Bichos y Flores en San Cristóbal\,  El taller 
 «Guardianes del Bosque» se impartirá el domingo 12 de abril de 11:00 a 1
 2:30 horas en San Cristóbal de Segovia. Una actividad creativa diseñada p
 ara familias con pequeños de entre 2 y 10 años. Bajo el lema «Bichos y F
 lores»\, [..]\nhttps://www.eventosdesegovia.com/events/taller-familiar-bic
 hos-y-flores-en-san-cristobal/
URL:https://www.eventosdesegovia.com/events/taller-familiar-bichos-y-flores-en-san-cristobal/
END:VEVENT
END:VCALENDAR