BEGIN:VCALENDAR
VERSION:2.0
PRODID:-//eventon.com NONSGML v1.0//EN
CALSCALE:GREGORIAN
METHOD:PUBLISH
BEGIN:VEVENT
UID:69e8b1fd765d7
DTSTAMP:20260422T113317Z
DTSTART:20260417T150000Z
DTEND:20260417T180000Z
LOCATION:Segovia Segovia
SUMMARY:El desafío de la Luz Eterna: Urban Escape en las calles de Segovia
DESCRIPTION:El desafío de la Luz Eterna: Urban Escape en las calles de Seg
 ovia\,  Este emocionante juego de escape urbano comenzará el viernes 17 de
  abril a las 17:00 horas en el centro de Segovia. ¿Seréis capaces de afro
 ntar el desafío? Bajo el título «El desafío de la Luz Eterna»\,  esta[
 ..]\nhttps://www.eventosdesegovia.com/events/el-desafio-de-la-luz-eterna-ur
 ban-escape-en-las-calles-de-segovia/
URL:https://www.eventosdesegovia.com/events/el-desafio-de-la-luz-eterna-urban-escape-en-las-calles-de-segovia/
END:VEVENT
END:VCALENDAR