BEGIN:VCALENDAR
VERSION:2.0
PRODID:-//eventon.com NONSGML v1.0//EN
CALSCALE:GREGORIAN
METHOD:PUBLISH
BEGIN:VEVENT
UID:69e89d6ed2f9c
DTSTAMP:20260422T100534Z
DTSTART:20260413
DTEND:20260414
LOCATION:Segovia Segovia
SUMMARY:Semana de las Universidades en Segovia
DESCRIPTION:Este ciclo de actividades se desarrollará del 13 al 17 de abri
 l\,  con eventos diarios a partir de las 17:00 o 17:30 horas en diferentes 
 localizaciones de la ciudad como el Jardín de San Juan de los Caballeros\,
   la Plaza del Azoguejo o el Pabellón Pedro Delgado. Segovia se convierte[
 ..]\nhttps://www.eventosdesegovia.com/events/semana-de-las-universidades-en
 -segovia/
URL:https://www.eventosdesegovia.com/events/semana-de-las-universidades-en-segovia/
END:VEVENT
END:VCALENDAR