BEGIN:VCALENDAR
VERSION:2.0
PRODID:-//eventon.com NONSGML v1.0//EN
CALSCALE:GREGORIAN
METHOD:PUBLISH
BEGIN:VEVENT
UID:69e8b206c99e0
DTSTAMP:20260422T113326Z
DTSTART:20260416
DTEND:20260417
LOCATION:Segovia Segovia
SUMMARY:Sportfest: El evento universitario deportivo de Segovia
DESCRIPTION:Sportfest: El evento universitario deportivo de Segovia\,  La c
 ompetición deportiva se celebrará el jueves 16 de abril en el Pabellón P
 edro Delgado y la Ciudad Deportiva La Albuera\,  en Segovia. Puedes consult
 ar todos los detalles en: https://www.sportfestsegovia.com/ Se trata de un 
 gran encuentro que enfrenta a la UVa contra el[..]\nhttps://www.eventosdese
 govia.com/events/sportfest-el-evento-universitario-deportivo-de-segovia/
URL:https://www.eventosdesegovia.com/events/sportfest-el-evento-universitario-deportivo-de-segovia/
END:VEVENT
END:VCALENDAR