BEGIN:VCALENDAR
VERSION:2.0
PRODID:-//eventon.com NONSGML v1.0//EN
CALSCALE:GREGORIAN
METHOD:PUBLISH
BEGIN:VEVENT
UID:69e78d7d464ac
DTSTAMP:20260421T144517Z
DTSTART:20260418
DTEND:20260419
LOCATION:Bernuy de Porreros Bernuy de Porreros
SUMMARY:Feria del Caballo en Bernuy de Porreros
DESCRIPTION:Feria del Caballo en Bernuy de Porreros\,  La jornada festiva s
 e celebrará durante todo el sábado 18 de abril\,  desde las 10:30 horas\,
   en diversas ubicaciones de Bernuy de Porreros. Bernuy se viste de gala pa
 ra su Feria del Caballo. El programa incluye una quedada y paseo de caballi
 stas\,  actuaciones[..]\nhttps://www.eventosdesegovia.com/events/feria-del-
 caballo-en-bernuy-de-porreros/
URL:https://www.eventosdesegovia.com/events/feria-del-caballo-en-bernuy-de-porreros/
END:VEVENT
END:VCALENDAR