BEGIN:VCALENDAR
VERSION:2.0
PRODID:-//eventon.com NONSGML v1.0//EN
CALSCALE:GREGORIAN
METHOD:PUBLISH
BEGIN:VEVENT
UID:69e7786f570b0
DTSTAMP:20260421T131527Z
DTSTART:20201021
DTEND:20201022
LOCATION:La Alhondíga Calle la Alhóndiga\,  10\,  40001 Segovia
SUMMARY:Exposición 'Espacios Abiertos\,  Espacios Amenazados' en La Alhóndiga
DESCRIPTION:Exposición &#8216;Espacios Abiertos\,  Espacios Amenazados&#82
 17; en La Alhóndiga hasta el próximo 29 de noviembre de 2020. Se podrá v
 er de miércoles a viernes\,  de 17:00 a 20:30 horas y los sábados\,  domi
 ngos y festivos\,  de 11:00 a 14:00 horas y de 17:00 a 20:30 horas. Un tota
 l de 45 fotos[..]\nhttps://www.eventosdesegovia.com/events/exposicion-espac
 ios-abiertos-espacios-amenazados-en-la-alhondiga/
URL:https://www.eventosdesegovia.com/events/exposicion-espacios-abiertos-espacios-amenazados-en-la-alhondiga/
END:VEVENT
END:VCALENDAR