BEGIN:VCALENDAR
VERSION:2.0
PRODID:-//eventon.com NONSGML v1.0//EN
CALSCALE:GREGORIAN
METHOD:PUBLISH
BEGIN:VEVENT
UID:69eb3f0bb45a6
DTSTAMP:20260424T095939Z
DTSTART:20201031T183000Z
DTEND:20201031T193000Z
LOCATION:Pabellón Pedro Delgado C/ Dámaso Alonso s/n
SUMMARY:ZOMBICLETA
DESCRIPTION:ZOMBICLETA &#8211; Marcha ciclista reivindicativa en Segovia. I
 nvasión de zombicletas en la ciudad&#8230; El sábado 31 de octubre (noche
  de Halloween) llegarán a la ciudad estos seres\,  mostrando la urgente ne
 cesidad de un plan de movilidad municipal que fomente la movilidad limpia\,
   activa\,  segura y sostenible\,  mejorando la calidad del[..]\nhttps://ww
 w.eventosdesegovia.com/events/zombicleta/
URL:https://www.eventosdesegovia.com/events/zombicleta/
END:VEVENT
END:VCALENDAR