BEGIN:VCALENDAR
VERSION:2.0
PRODID:-//eventon.com NONSGML v1.0//EN
CALSCALE:GREGORIAN
METHOD:PUBLISH
BEGIN:VEVENT
UID:69e7bdac43388
DTSTAMP:20260421T181052Z
DTSTART:20200215T100000Z
DTEND:20200215T163000Z
LOCATION:Centro Social de Arcones Plaza Mayor\,  1
SUMMARY:Taller de Fitocosmética Natural Artesana en Arcones
DESCRIPTION:Taller de Fitocosmética Natural Artesana en Arcones\,  descubr
 iendo el arte de la Aromaterapia. El 15 de Febrero de 2020\,  de 11:00 a 14
 :00 y de 16:00 a 17:30. Curso practico con elaboración de extractos y dive
 rsas fórmulas de las que cada asistente se lleva una muestra\,  además de
  recibir una[..]\nhttps://www.eventosdesegovia.com/events/taller-de-fitocos
 metica-natural-artesana-en-arcones/
URL:https://www.eventosdesegovia.com/events/taller-de-fitocosmetica-natural-artesana-en-arcones/
END:VEVENT
END:VCALENDAR