BEGIN:VCALENDAR
VERSION:2.0
PRODID:-//eventon.com NONSGML v1.0//EN
CALSCALE:GREGORIAN
METHOD:PUBLISH
BEGIN:VEVENT
UID:69e777cca748f
DTSTAMP:20260421T131244Z
DTSTART:20200209T083000Z
DTEND:20200209T120000Z
LOCATION:C/ Las Eras - Collado Hermoso C/ Las Eras
SUMMARY:RUTA GUIADA: COLLADO HERMOSO-FUENTE PLATEADA
DESCRIPTION:RUTA GUIADA: COLLADO HERMOSO-FUENTE PLATEADA. **DOMINGO 9 DE FE
 BRERO** Descripción de la Actividad Plazo de inscripción: desde las 9:30
 h del lunes 27/01/2020 hasta las 12:30h del viernes 07/02/2020 Desde la loc
 alidad de Collado Hermoso\,  este recorrido nos permitirá disfrutar de bel
 los pinares e interesantes vestigios de importantes construcciones hoy en d
 esuso.[..]\nhttps://www.eventosdesegovia.com/events/ruta-guiada-collado-her
 moso-fuente-plateada/
URL:https://www.eventosdesegovia.com/events/ruta-guiada-collado-hermoso-fuente-plateada/
END:VEVENT
END:VCALENDAR