BEGIN:VCALENDAR
VERSION:2.0
PRODID:-//eventon.com NONSGML v1.0//EN
CALSCALE:GREGORIAN
METHOD:PUBLISH
BEGIN:VEVENT
UID:69e7905f0470f
DTSTAMP:20260421T145735Z
DTSTART:20201121
DTEND:20201122
LOCATION:Real Sitio de San Ildefonso Real Sitio de San Ildefonso
SUMMARY:Curso de monitor de ocio y tiempo libre en La Granja de San Ildefonso
DESCRIPTION:Curso de monitor de ocio y tiempo libre en La Granja de San Ild
 efonso. Del 27 de noviembre al 13 de diciembre de 2020. Titulación Oficial
  Junta De Castilla Y León Ley (11/2002 Juventud). Abierto plazo de matríc
 ula hasta el 21 de noviembre. Plazas limitadas. Requisitos:&#8211; Haber cu
 mplido 18 años.&#8211;[..]\nhttps://www.eventosdesegovia.com/events/curso-
 de-monitor-de-ocio-y-tiempo-libre-en-la-granja-de-san-ildefonso/
URL:https://www.eventosdesegovia.com/events/curso-de-monitor-de-ocio-y-tiempo-libre-en-la-granja-de-san-ildefonso/
END:VEVENT
END:VCALENDAR