BEGIN:VCALENDAR
VERSION:2.0
PRODID:-//eventon.com NONSGML v1.0//EN
CALSCALE:GREGORIAN
METHOD:PUBLISH
BEGIN:VEVENT
UID:69e7a5ec907e8
DTSTAMP:20260421T162932Z
DTSTART:20200206T160000Z
DTEND:20200312T170000Z
LOCATION:Segovia Segovia
SUMMARY:Cuentitos para niños y niñas de 1 a 3 años en Fundación Caja Segovia (Cristo del Mercado)
DESCRIPTION:Cuentitos para niños y niñas de 1 a 3 años en Fundación Caj
 a Segovia (Cristo del Mercado) Actividades de Lectura para niñas y niños 
 dela 3 años acompañados de un adulto. Con Elena Marqués. Los jueves del 
 6 de febrero al 12 de marzo\,  de 17:00 &#8211; 18:00h\,  en Fundación[..]
 \nhttps://www.eventosdesegovia.com/events/cuentitos-para-ninos-y-ninas-de-1
 -a-3-anos-en-fundacion-caja-segovia-cristo-del-mercado/
URL:https://www.eventosdesegovia.com/events/cuentitos-para-ninos-y-ninas-de-1-a-3-anos-en-fundacion-caja-segovia-cristo-del-mercado/
END:VEVENT
END:VCALENDAR