BEGIN:VCALENDAR
VERSION:2.0
PRODID:-//eventon.com NONSGML v1.0//EN
CALSCALE:GREGORIAN
METHOD:PUBLISH
BEGIN:VEVENT
UID:69e7c25b363aa
DTSTAMP:20260421T183051Z
DTSTART:20200216T100000Z
DTEND:20200216T130000Z
LOCATION:Segovia Segovia
SUMMARY:Ylusicalia: Teatro sensorial para niñxs\,  en Nanuki
DESCRIPTION:Ylusicalia: Teatro sensorial para niñxs de 0 a 5 años. DOMING
 O 16 FEBRERO A LAS 11.00 HORAS. Lugar: Espacio de ocio Nanuki (C/ Santa Cat
 alina\,  14 – Segovia). ENTRADA ÚNICA 6 Euros. Aforo limitado/Reserva co
 n antelación. Contacto: holdnanuki@qmail.com / 620.99.11.90.\nhttps://www.
 eventosdesegovia.com/events/ylusicalia-teatro-sensorial-para-ninxs-en-nanuk
 i/
URL:https://www.eventosdesegovia.com/events/ylusicalia-teatro-sensorial-para-ninxs-en-nanuki/
END:VEVENT
END:VCALENDAR