BEGIN:VCALENDAR
VERSION:2.0
PRODID:-//eventon.com NONSGML v1.0//EN
CALSCALE:GREGORIAN
METHOD:PUBLISH
BEGIN:VEVENT
UID:69e7a1f168269
DTSTAMP:20260421T161233Z
DTSTART:20201116
DTEND:20201117
LOCATION:Segovia Segovia
SUMMARY:Donación de Sangre
DESCRIPTION:Donación de Sangre\,  para la semana del 16 al 22 de Noviembre
  de 2020\,  en Segovia Capital\,  Cantimpalos y Cantalejo. Segovia En SEGOV
 IA se puede&nbsp;DONAR&nbsp;SANGRE\,  para lo cual se ha habilitado como&nb
 sp;PUNTO FIJO TEMPORAL la&nbsp;&nbsp;ESCUELA&nbsp; DE&nbsp; INFORMATICA\, &
 nbsp;ubicada en la Plaza de Santa Eulalia nº 1\, con el SIGUIENTE HORARIO 
 para la[..]\nhttps://www.eventosdesegovia.com/events/donacion-de-sangre-7/
URL:https://www.eventosdesegovia.com/events/donacion-de-sangre-7/
END:VEVENT
END:VCALENDAR