BEGIN:VCALENDAR
VERSION:2.0
PRODID:-//eventon.com NONSGML v1.0//EN
CALSCALE:GREGORIAN
METHOD:PUBLISH
BEGIN:VEVENT
UID:69e74dcd85b87
DTSTAMP:20260421T101333Z
DTSTART:20200203
DTEND:20200204
LOCATION:Casa Joven de Segovia Paseo de San Juan de la Cruz
SUMMARY:Exposición “Error 404”
DESCRIPTION:Exposición “Error 404” La #CasaJoven acoge la exposició
 n “Error 404”\,  una colección de acuarelas creadas por la ilustradora
  segoviana “Mentiradeloro”\,  nombre artístico de Esther Cuesta. El t
 tulo hace referencia a los errores 404\,  también conocidos como “Not F
 ound” (No Encontrado). “Mentiradeloro” hace referencia al proceso de 
 ruptura\,  poniendo especial atención en lo[..]\nhttps://www.eventosdesego
 via.com/events/exposicion-error-404/
URL:https://www.eventosdesegovia.com/events/exposicion-error-404/
END:VEVENT
END:VCALENDAR