BEGIN:VCALENDAR
VERSION:2.0
PRODID:-//eventon.com NONSGML v1.0//EN
CALSCALE:GREGORIAN
METHOD:PUBLISH
BEGIN:VEVENT
UID:69e78fff132a1
DTSTAMP:20260421T145559Z
DTSTART:20200201T090000Z
DTEND:20200223T210000Z
LOCATION:Segovia Segovia
SUMMARY:VIII jornadas de trufa Melanosporum en Casa Silvano Restaurante Maracaibo
DESCRIPTION:VIII jornadas de trufa Melanosporum en Casa Silvano Restaurante
  Maracaibo Desde el día 1 hasta el 23 de febrero de 2020 Casa Silvano Rest
 aurante Maracaibo ofrece a todos sus amigos y clientes un nuevo menú de de
 gustación basado en la trufa negra Melanosporum de Soria. El MENÚ consta 
 de: Aperitivo[..]\nhttps://www.eventosdesegovia.com/events/viii-jornadas-de
 -trufa-melanosporum-en-casa-silvano-restaurante-maracaibo/
URL:https://www.eventosdesegovia.com/events/viii-jornadas-de-trufa-melanosporum-en-casa-silvano-restaurante-maracaibo/
END:VEVENT
END:VCALENDAR