BEGIN:VCALENDAR
VERSION:2.0
PRODID:-//eventon.com NONSGML v1.0//EN
CALSCALE:GREGORIAN
METHOD:PUBLISH
BEGIN:VEVENT
UID:69e74df08ec22
DTSTAMP:20260421T101408Z
DTSTART:20201205T173000Z
DTEND:20201205T190000Z
LOCATION:
SUMMARY:921 Distrito Musical: Ché Bandoneón en Labajos
DESCRIPTION:921 Distrito Musical: Ché Bandoneón\,  en el Salón de Usos M
 últiples de Labajos\,  el 5 de diciembre a las 18:30 horas. 5 de diciembre
  – 18:30 H | LABAJOS Ché Bandoneón Claudio Constantini Salón de Usos 
 Múltiples – LABAJOS Evento gratuito (aforo limitado). CLAUDIO CONSTANTIN
 I Pianista\,  bandoneonista y compositor\,  Claudio Constantini[..]\nhttps:
 //www.eventosdesegovia.com/events/921-distrito-musical-che-bandoneon-en-lab
 ajos/
URL:https://www.eventosdesegovia.com/events/921-distrito-musical-che-bandoneon-en-labajos/
END:VEVENT
END:VCALENDAR