BEGIN:VCALENDAR
VERSION:2.0
PRODID:-//eventon.com NONSGML v1.0//EN
CALSCALE:GREGORIAN
METHOD:PUBLISH
BEGIN:VEVENT
UID:69e7c259b16fd
DTSTAMP:20260421T183049Z
DTSTART:20200216T090000Z
DTEND:20200216T140000Z
LOCATION:Segovia Segovia
SUMMARY:Carrera Monumental Ciudad de Segovia 2020
DESCRIPTION:Carrera Monumental Ciudad de Segovia 2020 El 16 de Febrero de 2
 020\,  se celebra la Carrera Monumental Ciudad de Segovia 2020 Disfruta de 
 una nueva edición de la carrera Monumental ciudad de Segovia. 10km por los
  lugares más emblemáticos de la ciudad\,  sus calles empedradas y sus mon
 umentos\,  será el[..]\nhttps://www.eventosdesegovia.com/events/carrera-mo
 numental-ciudad-de-segovia-2020/
URL:https://www.eventosdesegovia.com/events/carrera-monumental-ciudad-de-segovia-2020/
END:VEVENT
END:VCALENDAR