BEGIN:VCALENDAR
VERSION:2.0
PRODID:-//eventon.com NONSGML v1.0//EN
CALSCALE:GREGORIAN
METHOD:PUBLISH
BEGIN:VEVENT
UID:69e79bfa551ba
DTSTAMP:20260421T154706Z
DTSTART:20200203
DTEND:20200204
LOCATION:Real Sitio de San Ildefonso Real Sitio de San Ildefonso
SUMMARY:Festividad de Santa Agueda 2020 en El Real Sitio de San Ildefonso
DESCRIPTION:Festividad de Santa Agueda 2020 en El Real Sitio de San Ildefon
 so Con actividades los días 3\,  4\,  5\,  9 y 17 de Febrero de 2020\nhttp
 s://www.eventosdesegovia.com/events/festividad-de-santa-agueda-2020-en-el-r
 eal-sitio-de-san-ildefonso/
URL:https://www.eventosdesegovia.com/events/festividad-de-santa-agueda-2020-en-el-real-sitio-de-san-ildefonso/
END:VEVENT
END:VCALENDAR