BEGIN:VCALENDAR
VERSION:2.0
PRODID:-//eventon.com NONSGML v1.0//EN
CALSCALE:GREGORIAN
METHOD:PUBLISH
BEGIN:VEVENT
UID:69e7a5e9a8a95
DTSTAMP:20260421T162929Z
DTSTART:20200220T173000Z
DTEND:20200220T170000Z
LOCATION:Valverde del Majano Valverde del Majano
SUMMARY:Taller de risoterapia y relajación
DESCRIPTION:Taller de risoterapia y relajación A partir del próximo 20 de
  febrero se desarrollará en Valverde del Majano un taller de risoterapia y
  relajación dirigido a padres de niños en edad escolar. Se trata de una i
 niciativa organizada por el Centro de Acción Social de la Diputación Prov
 incial\,  en colaboración[..]\nhttps://www.eventosdesegovia.com/events/tal
 ler-de-risoterapia-y-relajacion/
URL:https://www.eventosdesegovia.com/events/taller-de-risoterapia-y-relajacion/
END:VEVENT
END:VCALENDAR