BEGIN:VCALENDAR
VERSION:2.0
PRODID:-//eventon.com NONSGML v1.0//EN
CALSCALE:GREGORIAN
METHOD:PUBLISH
BEGIN:VEVENT
UID:69e7a5ed8dc58
DTSTAMP:20260421T162933Z
DTSTART:20200213T193000Z
DTEND:20200213T210000Z
LOCATION:Teatro Juan Bravo Plaza Mayor\,  9
SUMMARY:V.I.P. THE SHOW en el Teatro Juan Bravo
DESCRIPTION:V.I.P. THE SHOW en el Teatro Juan Bravo El 13 FEBRERO de 2020 e
 n el Teatro Juan Bravo MONOLOGO CHEMA TRUEBA  V.I.P. THE SHOW ORGANIZA: 
 ONDA CERO RADIO FUNCIÓN: 20:30 h ENTRADA CON INVITACIÓN MONOLOGO CHEMA 
 TRUEBA V.I.P. THE SHOW ORGANIZA: ONDA CERO RADIO\nhttps://www.eventosdesego
 via.com/events/v-i-p-the-show-en-el-teatro-juan-bravo/
URL:https://www.eventosdesegovia.com/events/v-i-p-the-show-en-el-teatro-juan-bravo/
END:VEVENT
END:VCALENDAR