BEGIN:VCALENDAR
VERSION:2.0
PRODID:-//eventon.com NONSGML v1.0//EN
CALSCALE:GREGORIAN
METHOD:PUBLISH
BEGIN:VEVENT
UID:69eb3f1175ae0
DTSTAMP:20260424T095945Z
DTSTART:20200215T033000Z
DTEND:20200215T053000Z
LOCATION:Campo Municipal &quot;El Hospital&quot; Pradera del Hospital\,  San Ildefonso
SUMMARY:Fútbol - C.D.La Granja vs Real Burgos CF SAD
DESCRIPTION:Fútbol &#8211; C.D.La Granja vs Real Burgos CF SAD El Sábado 
 15 de Febrero de 2020 a las 16:30\,   partido correspondiente a la Jornada
  27 Grupo VIII Tercera División entre el C.D.La Granja y el Real Burgos CF
  SAD en el campo de El Hospital. &nbsp; Nombre: Fútbol &#8211; C.D.La[..]\
 nhttps://www.eventosdesegovia.com/events/futbol-c-d-la-granja-vs-real-burgo
 s-cf-sad/
URL:https://www.eventosdesegovia.com/events/futbol-c-d-la-granja-vs-real-burgos-cf-sad/
END:VEVENT
END:VCALENDAR