BEGIN:VCALENDAR
VERSION:2.0
PRODID:-//eventon.com NONSGML v1.0//EN
CALSCALE:GREGORIAN
METHOD:PUBLISH
BEGIN:VEVENT
UID:69e7d99273bcb
DTSTAMP:20260421T200954Z
DTSTART:20200216T080000Z
DTEND:20200216T130000Z
LOCATION:Cine Panorámico
SUMMARY:XLVII Travesía Invernal de la ‘Mujer Muerta’
DESCRIPTION:XLVII Travesía Invernal de la ‘Mujer Muerta’ El 16 de Febr
 ero de 2020\,  tiene lugar la XLVII Travesía Invernal de la ‘Mujer Muert
 a’\,  con salida a las 9 de la mañana del Aparcamiento del Cine Panorám
 ico. Mas información y detalles en: https://www.acueducto2.com/xlvii-trav
 esia-invernal-de-la-mujer-muerta/94299 Nombre: XLVII Travesía Invernal de 
 la ‘Mujer Muerta’ Fecha:[..]\nhttps://www.eventosdesegovia.com/events/x
 lvii-travesia-invernal-de-la-mujer-muerta/
URL:https://www.eventosdesegovia.com/events/xlvii-travesia-invernal-de-la-mujer-muerta/
END:VEVENT
END:VCALENDAR