BEGIN:VCALENDAR
VERSION:2.0
PRODID:-//eventon.com NONSGML v1.0//EN
CALSCALE:GREGORIAN
METHOD:PUBLISH
BEGIN:VEVENT
UID:69e8a04731c11
DTSTAMP:20260422T101743Z
DTSTART:20200224
DTEND:20200225
LOCATION:Segovia Segovia
SUMMARY:Carnaval de Segovia 2020\,  24 de febrero\,  Lunes de Carnaval
DESCRIPTION:Carnaval de Segovia 2020\,  24 de febrero\,  Lunes de Carnaval 
 11:00 horas. En el Centro Cultural San José\,  Concurso Infantil de dibujo
  Disfrázate y Pinta tu Carnaval**. 18:00 horas. DESFILE DE LAS COMPARSAS I
 NFANTILES. Desde la Plaza del Azoguejo hasta la Plaza Mayor. Después\,  CH
 OCOLATADA preparada por la Asociación de[..]\nhttps://www.eventosdesegovia
 .com/events/carnaval-de-segovia-2020-24-de-febrero-lunes-de-carnaval/
URL:https://www.eventosdesegovia.com/events/carnaval-de-segovia-2020-24-de-febrero-lunes-de-carnaval/
END:VEVENT
END:VCALENDAR