BEGIN:VCALENDAR
VERSION:2.0
PRODID:-//eventon.com NONSGML v1.0//EN
CALSCALE:GREGORIAN
METHOD:PUBLISH
BEGIN:VEVENT
UID:69e7c259abb48
DTSTAMP:20260421T183049Z
DTSTART:20200214T183000Z
DTEND:20200214T203000Z
LOCATION:Centro Comercial Luz de Castilla Polígono Industrial el Cerro
SUMMARY:Fotomatón San Valentín en Luz de Castilla
DESCRIPTION:Fotomatón San Valentín en Luz de Castilla (Polígono Industri
 al el Cerro\,  S/N 40006 Segovia). Hazte la foto más amorosa y llévate el
  mejor recuerdo. Hora: Viernes 14 de Febrero\,  de 19:30 A 21:30 H. Lugar: 
 Primera planta del Centro Comercial Luz de Castilla. Evento gratuito.\nhttp
 s://www.eventosdesegovia.com/events/fotomaton-san-valentin-en-luz-de-castil
 la/
URL:https://www.eventosdesegovia.com/events/fotomaton-san-valentin-en-luz-de-castilla/
END:VEVENT
END:VCALENDAR