BEGIN:VCALENDAR
VERSION:2.0
PRODID:-//eventon.com NONSGML v1.0//EN
CALSCALE:GREGORIAN
METHOD:PUBLISH
BEGIN:VEVENT
UID:69e8b107945c2
DTSTAMP:20260422T112911Z
DTSTART:20210526
DTEND:20210527
LOCATION:
SUMMARY:Programa Campamentos de Verano "Red Activa 2021"
DESCRIPTION:Programa Campamentos de Verano «Red Activa 2021&#8243;\,  Se c
 onvocan 2.395 plazas dentro del programa campamentos de verano «Red Activa
  2021» y establecer las condiciones de participación en el mismo. Las act
 ividades ofertadas son las indicadas en el Anexo I. El número total de las
  plazas convocadas por actividad está supeditado[..]\nhttps://www.eventosd
 esegovia.com/events/programa-campamentos-de-verano-red-activa-2021/
URL:https://www.eventosdesegovia.com/events/programa-campamentos-de-verano-red-activa-2021/
END:VEVENT
END:VCALENDAR