BEGIN:VCALENDAR
VERSION:2.0
PRODID:-//eventon.com NONSGML v1.0//EN
CALSCALE:GREGORIAN
METHOD:PUBLISH
BEGIN:VEVENT
UID:69e7c2130e8d9
DTSTAMP:20260421T182939Z
DTSTART:20200214T200000Z
DTEND:20200214T110000Z
LOCATION:Teatro Juan Bravo Plaza Mayor\,  9
SUMMARY:Concierto de Diego Vasallo en Segovia
DESCRIPTION:Concierto de Diego Vasallo en Segovia: Diego Vasallo presentarÃ
 ¡ su nuevo disco â€˜Las rutas desiertasâ€™ en el Teatro Juan Bravo el dÃ­a 
 14 de febrero. En este concierto Diego Vasallo estrena nuevo disco el prÃ³x
 imo 7 de febrero. Â«Las Rutas DesiertasÂ»\,  es el sÃ©ptimo disco en solita
 rio del ex Duncan[..]\nhttps://www.eventosdesegovia.com/events/concierto-de
 -diego-vasallo-en-segovia/
URL:https://www.eventosdesegovia.com/events/concierto-de-diego-vasallo-en-segovia/
END:VEVENT
END:VCALENDAR