BEGIN:VCALENDAR
VERSION:2.0
PRODID:-//eventon.com NONSGML v1.0//EN
CALSCALE:GREGORIAN
METHOD:PUBLISH
BEGIN:VEVENT
UID:69e89c0930b56
DTSTAMP:20260422T095937Z
DTSTART:20210601
DTEND:20210602
LOCATION:Nanuki Calle Sta. Catalina\,  14\,  Segovia
SUMMARY:Campamento de Verano en Nanuki
DESCRIPTION:Campamento de Verano en Nanuki\,  de Junio a Septiembre\,  con 
 horario de Lunes a Viernes de 9:00 a 14:00 con posibilidad de ampliar.\nhtt
 ps://www.eventosdesegovia.com/events/campamento-de-verano-en-nanuki/
URL:https://www.eventosdesegovia.com/events/campamento-de-verano-en-nanuki/
END:VEVENT
END:VCALENDAR