BEGIN:VCALENDAR
VERSION:2.0
PRODID:-//eventon.com NONSGML v1.0//EN
CALSCALE:GREGORIAN
METHOD:PUBLISH
BEGIN:VEVENT
UID:69e74f3e1bf57
DTSTAMP:20260421T101942Z
DTSTART:20210714
DTEND:20210715
LOCATION:Segovia Segovia
SUMMARY:46 MUSEG â€“ FESTIVAL MUSICAL
DESCRIPTION:46 MUSEG â€“ FESTIVAL MUSICAL. El guitarristaÂ Vicente AmigoÂ y
  el prestigioso grupoÂ Lâ€™ArpeggiataÂ son dos de las propuestas de esta te
 mporada para el festivalÂ MUSEGÂ en su ediciÃ³n de 2021\,  que organiza laÂ
  FundaciÃ³n don Juan de BorbÃ³nÂ (adscrita al Ayuntamiento de la capital). 
 La extraordinaria calidad de la programaciÃ³n y una cuidada elecciÃ³n de lo
 s espacios[..]\nhttps://www.eventosdesegovia.com/events/46-museg-festival-m
 usical/
URL:https://www.eventosdesegovia.com/events/46-museg-festival-musical/
END:VEVENT
END:VCALENDAR