BEGIN:VCALENDAR
VERSION:2.0
PRODID:-//eventon.com NONSGML v1.0//EN
CALSCALE:GREGORIAN
METHOD:PUBLISH
BEGIN:VEVENT
UID:69eb3f80b9138
DTSTAMP:20260424T100136Z
DTSTART:20200222
DTEND:20200223
LOCATION:Bar el Gato Plaza del Salvador 10
SUMMARY:Campeonato de Futbolin en Bar el Gato
DESCRIPTION:Campeonato de Futbolín en Bar el Gato El 22 de Febrero de 2020
 \,  en Bar El Gato de Segovia\,  Campeonato de Futbolín Mas información e
 n los teléfonos del Cartel!! &nbsp; &nbsp; &nbsp;\nhttps://www.eventosdese
 govia.com/events/campeonato-de-futbolin-en-bar-el-gato/
URL:https://www.eventosdesegovia.com/events/campeonato-de-futbolin-en-bar-el-gato/
END:VEVENT
END:VCALENDAR