BEGIN:VCALENDAR
VERSION:2.0
PRODID:-//eventon.com NONSGML v1.0//EN
CALSCALE:GREGORIAN
METHOD:PUBLISH
BEGIN:VEVENT
UID:69e8a08aba898
DTSTAMP:20260422T101850Z
DTSTART:20210628T190900Z
DTEND:20210709T190900Z
LOCATION:Campo de Nueva Segovia C/ Dámaso Alonso s/n
SUMMARY:IX Campus de Fútbol Roberto y Ricardo
DESCRIPTION:IX Campus de Fútbol Roberto y Ricardo\,  la primera semana ser
 a del 28 de Junio al 2 de Julio y la segunda semana desde el 5 de Julio al 
 9 de Julio. EDICION 2022 -> X Campus de Fútbol Roberto y Ricardo Las inscr
 ipciones se realizan en JOMA SEGOVIA (Dentro[..]\nhttps://www.eventosdesego
 via.com/events/ix-campus-de-futbol-roberto-y-ricardo/
URL:https://www.eventosdesegovia.com/events/ix-campus-de-futbol-roberto-y-ricardo/
END:VEVENT
END:VCALENDAR