BEGIN:VCALENDAR
VERSION:2.0
PRODID:-//eventon.com NONSGML v1.0//EN
CALSCALE:GREGORIAN
METHOD:PUBLISH
BEGIN:VEVENT
UID:69e633a924c8c
DTSTAMP:20260420T140945Z
DTSTART:20210802
DTEND:20210803
LOCATION:La Losa La Losa
SUMMARY:Campamento Rural en La Losa
DESCRIPTION:Campamento Rural en La Losa\,  con 2 turnos\,  del 2 al 6 de Ag
 osto y del 9 al 13 de Agosto\,  de lunes a Viernes de 9:00 a 14:00\,  para 
 niños de 4 a 11 años. Actividades al Aire Libre\nhttps://www.eventosdeseg
 ovia.com/events/campamento-rural-en-la-losa/
URL:https://www.eventosdesegovia.com/events/campamento-rural-en-la-losa/
END:VEVENT
END:VCALENDAR