BEGIN:VCALENDAR
VERSION:2.0
PRODID:-//eventon.com NONSGML v1.0//EN
CALSCALE:GREGORIAN
METHOD:PUBLISH
BEGIN:VEVENT
UID:69e8a0eb8157f
DTSTAMP:20260422T102027Z
DTSTART:20210628
DTEND:20210629
LOCATION:La Losa La Losa
SUMMARY:Campamento de Verano en La Losa
DESCRIPTION:Campamento de Verano en La Losa\,  los campamentos se realizara
 n por SEMANAS TEMATIZADAS en periodo comprendido del 28 de Junio al 3 de Se
 ptiembre\,  con talleres dinámicos\,  juegos\,  experimentos con agua\,  p
 iscina y muchas actividades más. HORARIO: de lunes a viernes de 10:00h a 1
 4:00h PRECIO: 30€/ semana. Las inscripciones[..]\nhttps://www.eventosdese
 govia.com/events/campamento-de-verano-en-la-losa/
URL:https://www.eventosdesegovia.com/events/campamento-de-verano-en-la-losa/
END:VEVENT
END:VCALENDAR