BEGIN:VCALENDAR
VERSION:2.0
PRODID:-//eventon.com NONSGML v1.0//EN
CALSCALE:GREGORIAN
METHOD:PUBLISH
BEGIN:VEVENT
UID:69e7a5eb947f6
DTSTAMP:20260421T162931Z
DTSTART:20200215T160000Z
DTEND:20200215T180000Z
LOCATION:La Albuera  Ctra. Palazuelos\,  s/n\, 
SUMMARY:Fútbol - J21 Grupo A Regional Aficionados | Unami CP - Castilla Palencia
DESCRIPTION:Fútbol &#8211; J21 Grupo A Regional Aficionados | Unami CP &#8
 211; Castilla Palencia El día 15 de Febrero de 2020\,  en el Estadio Munic
 ipal de La Albuera se disputa en Partido correspondiente a la Jornada 21 G
 rupo A Regional Preferente de Aficionados  entre el Unami CP y el Club Dep
 ortivo Castilla[..]\nhttps://www.eventosdesegovia.com/events/futbol-j21-gru
 po-a-regional-aficionados-unami-cp-castilla-palencia/
URL:https://www.eventosdesegovia.com/events/futbol-j21-grupo-a-regional-aficionados-unami-cp-castilla-palencia/
END:VEVENT
END:VCALENDAR