BEGIN:VCALENDAR
VERSION:2.0
PRODID:-//eventon.com NONSGML v1.0//EN
CALSCALE:GREGORIAN
METHOD:PUBLISH
BEGIN:VEVENT
UID:69eb2ba834ee0
DTSTAMP:20260424T083656Z
DTSTART:20210628T195400Z
DTEND:20210813T195400Z
LOCATION:Cuéllar Cuéllar
SUMMARY:Campamento Piscina de Verano en Cuéllar
DESCRIPTION:Campamento Piscina de Verano en Cuéllar\,  de lunes a viernes 
 de 10 a 14 horas con posibilidad de ampliar desde las 8:00 hasta las 14:30.
  La primera semana comienza el 28 de Junio hasta el 2 de Julio\,  y la ulti
 ma semana sera el 9 de Agosto al 13 de[..]\nhttps://www.eventosdesegovia.co
 m/events/campamento-piscina-de-verano-en-cuellar/
URL:https://www.eventosdesegovia.com/events/campamento-piscina-de-verano-en-cuellar/
END:VEVENT
END:VCALENDAR