BEGIN:VCALENDAR
VERSION:2.0
PRODID:-//eventon.com NONSGML v1.0//EN
CALSCALE:GREGORIAN
METHOD:PUBLISH
BEGIN:VEVENT
UID:69e7a5f5ceb20
DTSTAMP:20260421T162941Z
DTSTART:20200215T163000Z
DTEND:20200215T183000Z
LOCATION:Centro de Asociaciones de Autoayuda y Voluntariado (CAAV) Av. Acueducto\,  28
SUMMARY:Informe Caminar sobre el abismo de los límites
DESCRIPTION:Presentación del informe Caminar sobre el abismo de los límit
 es. Charla-coloquio\,  con la intervención de Vanessa Alvarez\,  sobre pol
 íticas ante la crisis ecológica\,  social y económica. Según los datos 
 aportados por distintos organismos internacionales y parte de la comunidad 
 científica\,  nos encontramos en un momento único en la historia de[..]\n
 https://www.eventosdesegovia.com/events/informe-caminar-sobre-el-abismo-de-
 los-limites/
URL:https://www.eventosdesegovia.com/events/informe-caminar-sobre-el-abismo-de-los-limites/
END:VEVENT
END:VCALENDAR