BEGIN:VCALENDAR
VERSION:2.0
PRODID:-//eventon.com NONSGML v1.0//EN
CALSCALE:GREGORIAN
METHOD:PUBLISH
BEGIN:VEVENT
UID:69e8a9c3da577
DTSTAMP:20260422T105811Z
DTSTART:20210628T155200Z
DTEND:20210903T155200Z
LOCATION:Valverde del Majano Valverde del Majano
SUMMARY:Escuela de Verano en Valverde del Majano
DESCRIPTION:Escuela de Verano en Valverde del Majano\,  del 28 de Junio al 
 3 de Septiembre\,  dividido en semanas. Este verano el campamento urbano en
  Valverde es único. El Ayuntamiento y la Escuela de Fútbol Sala han acord
 ado la realización de un único campamento organizado por el club\,  que d
 urará todo[..]\nhttps://www.eventosdesegovia.com/events/escuela-de-verano-
 en-valverde-del-majano/
URL:https://www.eventosdesegovia.com/events/escuela-de-verano-en-valverde-del-majano/
END:VEVENT
END:VCALENDAR