BEGIN:VCALENDAR
VERSION:2.0
PRODID:-//eventon.com NONSGML v1.0//EN
CALSCALE:GREGORIAN
METHOD:PUBLISH
BEGIN:VEVENT
UID:69e89d82d69d6
DTSTAMP:20260422T100554Z
DTSTART:20210628
DTEND:20210629
LOCATION:Real Sitio de San Ildefonso Real Sitio de San Ildefonso
SUMMARY:Campamento Verano Real Sitio de San Ildefonso
DESCRIPTION:Campamento Verano Real Sitio de San Ildefonso\,  del 28 de Juni
 o al 6 de Agosto de 2021\,  por semanas\,  Información e inscripciones en:
  https://www.lagranja-valsain.com/campamentos-urbanos-de-verano-2021/\nhttp
 s://www.eventosdesegovia.com/events/campamento-verano-real-sitio-de-san-ild
 efonso/
URL:https://www.eventosdesegovia.com/events/campamento-verano-real-sitio-de-san-ildefonso/
END:VEVENT
END:VCALENDAR