BEGIN:VCALENDAR
VERSION:2.0
PRODID:-//eventon.com NONSGML v1.0//EN
CALSCALE:GREGORIAN
METHOD:PUBLISH
BEGIN:VEVENT
UID:69e7a5f656ad9
DTSTAMP:20260421T162942Z
DTSTART:20200214
DTEND:20200215
LOCATION:Cines Luz de Castilla Centro Comercial Luz de Castilla\,  Calle de Guadarrama\,  s/n
SUMMARY:Cine Sala Fundación Caja Segovia: miniciclo de los Oscar - 14 al 18 febrero 2020
DESCRIPTION:Cine Sala Fundación Caja Segovia: miniciclo de los Oscar &#821
 1; 14 al 18 febrero 2020 Érase una vez en Hollywood Del 14 al 18 de Febrer
 o de 2020\,  Ganadora Óscar a mejor actor (Brad Pitt) Para mayores de 16 
 años 165 min Horarios viernes 20:15 sábado 17:30 domingo 20:15 lunes 
 17:30 V.O.S.E (inglés) martes 20:15  Sinopsis[..]\nhttps://www.eventosde
 segovia.com/events/cine-sala-fundacion-caja-segovia-miniciclo-de-los-oscar-
 14-al-18-febrero-2020/
URL:https://www.eventosdesegovia.com/events/cine-sala-fundacion-caja-segovia-miniciclo-de-los-oscar-14-al-18-febrero-2020/
END:VEVENT
END:VCALENDAR