BEGIN:VCALENDAR
VERSION:2.0
PRODID:-//eventon.com NONSGML v1.0//EN
CALSCALE:GREGORIAN
METHOD:PUBLISH
BEGIN:VEVENT
UID:69e777b41f9c2
DTSTAMP:20260421T131220Z
DTSTART:20210627
DTEND:20210628
LOCATION:Circuito de Motocross de Segovia Altos de la Piedad Carretera N-110 Soria\,  17\,  40003 Segovia
SUMMARY:VI Trofeo Motocross Ciudad de Segovia
DESCRIPTION:VI Trofeo Motocross Ciudad de Segovia se celebrarÃ¡ el prÃ³ximo
  domingo\,  27 de junio\,  con el fin de no coincidir en la fecha con elÂ T
 rofeo de La BaÃ±ezaÂ que se iba a disputar el 20 de junio. El evento sufriÃ
 ³ una modificaciÃ³n en su fecha de celebraciÃ³n\,  puesto que aunque en[..]
 \nhttps://www.eventosdesegovia.com/events/vi-trofeo-motocross-ciudad-de-seg
 ovia/
URL:https://www.eventosdesegovia.com/events/vi-trofeo-motocross-ciudad-de-segovia/
END:VEVENT
END:VCALENDAR