BEGIN:VCALENDAR
VERSION:2.0
PRODID:-//eventon.com NONSGML v1.0//EN
CALSCALE:GREGORIAN
METHOD:PUBLISH
BEGIN:VEVENT
UID:69e61ebb7c245
DTSTAMP:20260420T124027Z
DTSTART:20200223
DTEND:20200224
LOCATION:Espirdo Espirdo
SUMMARY:Carnaval 2020 en Espirdo
DESCRIPTION:Carnaval 2020 en Espirdo Busca un disfraz y ven a disfrutar del
  carnaval del 23 al 26 de febrero en Espirdo y Tizneros.\nhttps://www.event
 osdesegovia.com/events/carnaval-2020-en-espirdo/
URL:https://www.eventosdesegovia.com/events/carnaval-2020-en-espirdo/
END:VEVENT
END:VCALENDAR