BEGIN:VCALENDAR
VERSION:2.0
PRODID:-//eventon.com NONSGML v1.0//EN
CALSCALE:GREGORIAN
METHOD:PUBLISH
BEGIN:VEVENT
UID:69e7a64f97384
DTSTAMP:20260421T163111Z
DTSTART:20200222T163000Z
DTEND:20200222T193000Z
LOCATION:Local Jubilados Navalmanzano Navalmanzano
SUMMARY:Carnaval 2020 en Navalmanzano
DESCRIPTION:Carnaval 2020 en Navalmanzano El Sábado 22 de Febrero de 2020\
 ,  en el Local de Jubilados de Navalmanzano\,  Fiesta infantil\,  a las 17:
 30 hasta las 20:30\,  con Andy González\,  magic fusion.\nhttps://www.even
 tosdesegovia.com/events/carnaval-2020-en-navalmanzano/
URL:https://www.eventosdesegovia.com/events/carnaval-2020-en-navalmanzano/
END:VEVENT
END:VCALENDAR