BEGIN:VCALENDAR
VERSION:2.0
PRODID:-//eventon.com NONSGML v1.0//EN
CALSCALE:GREGORIAN
METHOD:PUBLISH
BEGIN:VEVENT
UID:69e774d40276f
DTSTAMP:20260421T130004Z
DTSTART:20200213T183000Z
DTEND:20200213T193000Z
LOCATION:La Alhondíga Calle la Alhóndiga\,  10\,  40001 Segovia
SUMMARY:Visita explicada de la exposición Roman
DESCRIPTION:Visita explicada de la exposición «Román» en La Alhóndiga 
 de Segovia\,  donde se pueden ver las acuarelas del pintor segoviano Antoni
 o Román\,  fallecido hace 20 años. Una muestra con la que su familia quie
 re recordar la obra inicial del artista y las acuarelas que no habían sido
  expuestas nunca públicamente.[..]\nhttps://www.eventosdesegovia.com/event
 s/visita-explicada-de-la-exposicion-roman/
URL:https://www.eventosdesegovia.com/events/visita-explicada-de-la-exposicion-roman/
END:VEVENT
END:VCALENDAR