BEGIN:VCALENDAR
VERSION:2.0
PRODID:-//eventon.com NONSGML v1.0//EN
CALSCALE:GREGORIAN
METHOD:PUBLISH
BEGIN:VEVENT
UID:69e75d79673c5
DTSTAMP:20260421T112025Z
DTSTART:20210703T180000Z
DTEND:20210703T193000Z
LOCATION:Pradena Pradena
SUMMARY:Diábolo Clásic Metal en Prádena
DESCRIPTION:Diábolo Clásic Metal en Prádena\,  el 3 de Julio de 2021 a l
 as 20:00 en el Patio del colegio.\nhttps://www.eventosdesegovia.com/events/
 diabolo-clasic-metal-en-pradena/
URL:https://www.eventosdesegovia.com/events/diabolo-clasic-metal-en-pradena/
END:VEVENT
END:VCALENDAR