BEGIN:VCALENDAR
VERSION:2.0
PRODID:-//eventon.com NONSGML v1.0//EN
CALSCALE:GREGORIAN
METHOD:PUBLISH
BEGIN:VEVENT
UID:69e7a165ed29f
DTSTAMP:20260421T161013Z
DTSTART:20200215
DTEND:20200216
LOCATION:
SUMMARY:Fútbol Sala - Jornada 15 Grupo 9 Tercera División
DESCRIPTION:Fútbol Sala &#8211; Jornada 15 Grupo 9 Tercera División La jo
 rnada tiene lugar el Sábado 15 de Febrero\,  donde participan los equipos 
 segovianos  Racing Cuéllar &#8211; Autoescuelas Castilla\,  C.D. El Espin
 ar Arlequín  y   Segosala Segius\,  que en esta ocasión juega en Zamora
 . SÁBADO 15 FEBRERO 16:15 &#8211; Racing Cuéllar[..]\nhttps://www.eventos
 desegovia.com/events/futbol-sala-jornada-15-grupo-9-tercera-division/
URL:https://www.eventosdesegovia.com/events/futbol-sala-jornada-15-grupo-9-tercera-division/
END:VEVENT
END:VCALENDAR