BEGIN:VCALENDAR
VERSION:2.0
PRODID:-//eventon.com NONSGML v1.0//EN
CALSCALE:GREGORIAN
METHOD:PUBLISH
BEGIN:VEVENT
UID:69e89c0c372c9
DTSTAMP:20260422T095940Z
DTSTART:20200222
DTEND:20200223
LOCATION:Turégano Turégano
SUMMARY:Carnaval 2020 en Turégano
DESCRIPTION:Carnaval 2020 en Turégano Desde el día 22 de Febrero de 2020 
 al 26 de Febrero de 2020\,  se celebra el Carnaval en la Localidad de Turé
 gano!! Con actividades para todas las edades!!\nhttps://www.eventosdesegovi
 a.com/events/carnaval-2020-en-turegano/
URL:https://www.eventosdesegovia.com/events/carnaval-2020-en-turegano/
END:VEVENT
END:VCALENDAR