BEGIN:VCALENDAR
VERSION:2.0
PRODID:-//eventon.com NONSGML v1.0//EN
CALSCALE:GREGORIAN
METHOD:PUBLISH
BEGIN:VEVENT
UID:69e7c21219e9e
DTSTAMP:20260421T182938Z
DTSTART:20200216T180000Z
DTEND:20200216T200000Z
LOCATION:Palazuelos de Eresma Palazuelos de Eresma
SUMMARY:Teatro - Retales en Palazuelos de Eresma
DESCRIPTION:Teatro &#8211; Retales en Palazuelos de Eresma El Domingo 16 de
  Febrero de 2020 a las 19:00 en el Salón del Ayuntamiento de Palazuelos de
  Eresma. ESPECTACULO DE DANZA TEATRO. Grupo teatral: HIGIÉNICO PAPEL TEATR
 O: Más de veinte años de experiencia\,  más de treinta espectáculos pro
 ducidos y estrenados siempre con[..]\nhttps://www.eventosdesegovia.com/even
 ts/teatro-retales-en-palazuelos-de-eresma/
URL:https://www.eventosdesegovia.com/events/teatro-retales-en-palazuelos-de-eresma/
END:VEVENT
END:VCALENDAR