BEGIN:VCALENDAR
VERSION:2.0
PRODID:-//eventon.com NONSGML v1.0//EN
CALSCALE:GREGORIAN
METHOD:PUBLISH
BEGIN:VEVENT
UID:69e7d9a3b505d
DTSTAMP:20260421T201011Z
DTSTART:20200216T150000Z
DTEND:20200216T170000Z
LOCATION:Pistas Antonio Prieto Pistas Antonio Prieto
SUMMARY:Rugby - Rac Lobos Segovia vs XV Hortaleza Rojo
DESCRIPTION:Rugby &#8211; Rac Lobos Segovia vs XV Hortaleza Rojo El Domingo
  día 16 de febrero en el campo de las Pistas Antonio Prieto (La Albuera) a
  las 16:00 se enfrentan el RAC Lobos Segovia vs XV Hortaleza Rojo en una n
 ueva jornada de Rugby\,  la novena jornada de la 2ª Regional[..]\nhttps://
 www.eventosdesegovia.com/events/rugby-rac-lobos-segovia-vs-xv-hortaleza-roj
 o/
URL:https://www.eventosdesegovia.com/events/rugby-rac-lobos-segovia-vs-xv-hortaleza-rojo/
END:VEVENT
END:VCALENDAR