BEGIN:VCALENDAR
VERSION:2.0
PRODID:-//eventon.com NONSGML v1.0//EN
CALSCALE:GREGORIAN
METHOD:PUBLISH
BEGIN:VEVENT
UID:69e7a5e9b05fb
DTSTAMP:20260421T162929Z
DTSTART:20200215T083000Z
DTEND:20200215T180000Z
LOCATION:Segovia Segovia
SUMMARY:Curso: Reloj decorativo avión vintage – Sábado creativo
DESCRIPTION:Curso: Reloj decorativo avión vintage – Sábado creativo Cur
 so intensivo en el que se realizará un precioso trabajo mientras se pasa u
 n buen rato. Se trabajarán con diferentes materiales y se aprenderá a hac
 er diferentes acabados. Todos los materiales están incluidos. Hora: Sábad
 o 15 de febrero\,  de 9:30 a 19:00.[..]\nhttps://www.eventosdesegovia.com/e
 vents/curso-reloj-decorativo-avion-vintage-sabado-creativo/
URL:https://www.eventosdesegovia.com/events/curso-reloj-decorativo-avion-vintage-sabado-creativo/
END:VEVENT
END:VCALENDAR