BEGIN:VCALENDAR
VERSION:2.0
PRODID:-//eventon.com NONSGML v1.0//EN
CALSCALE:GREGORIAN
METHOD:PUBLISH
BEGIN:VEVENT
UID:69e89f31149ca
DTSTAMP:20260422T101305Z
DTSTART:20200222T100000Z
DTEND:20200222T193000Z
LOCATION:Casa Museo de Antonio Machado Calle los Desamparados\,  5\,  40001 Segovia
SUMMARY:Homenaje popular en recuerdo de Antonio Machado
DESCRIPTION:Homenaje popular en recuerdo de Antonio Machado: «Hoy es siemp
 re todavía». El sábado 22 de febrero\,  Segovia recuerda a Antonio Macha
 do en el aniversario de su muerte con el ya tradicional homenaje popular: J
 ornada de puertas abiertas en la Casa Museo del poeta (11-14h y 16-18h)\,  
 lectura de poemas y[..]\nhttps://www.eventosdesegovia.com/events/homenaje-p
 opular-en-recuerdo-de-antonio-machado/
URL:https://www.eventosdesegovia.com/events/homenaje-popular-en-recuerdo-de-antonio-machado/
END:VEVENT
END:VCALENDAR