BEGIN:VCALENDAR
VERSION:2.0
PRODID:-//eventon.com NONSGML v1.0//EN
CALSCALE:GREGORIAN
METHOD:PUBLISH
BEGIN:VEVENT
UID:69e7d4a32c691
DTSTAMP:20260421T194851Z
DTSTART:20200215T190000Z
DTEND:20200215T210000Z
LOCATION:Residencia ‘Emperador Teodosío’ Residencia ‘Emperador Teodosío’
SUMMARY:XIII Ciclos de Montaña de Segovia.
DESCRIPTION:XIII Ciclos de Montaña de Segovia El 15 de febrero\,  continú
 an los ‘Ciclos de Montaña‘ de Segovia. Miki García y Gerardo Romero
 \,  miembros del Grupo de Montaña ‘Diego de Ordás’\,  presentan una 
 actividad en el Alto Atlas marroquí. Se mostrarán imágenes de varias r
 utas realizadas por los valles Bereberes\,  en donde ascendieron al pico Jb
 el[..]\nhttps://www.eventosdesegovia.com/events/xiii-ciclos-de-montana-de-s
 egovia/
URL:https://www.eventosdesegovia.com/events/xiii-ciclos-de-montana-de-segovia/
END:VEVENT
END:VCALENDAR